BEGIN:VCALENDAR
VERSION:2.0
PRODID:-//AMVETS - ECPv6.15.20//NONSGML v1.0//EN
CALSCALE:GREGORIAN
METHOD:PUBLISH
X-WR-CALNAME:AMVETS
X-ORIGINAL-URL:https://amvetsmichigan.org
X-WR-CALDESC:Events for AMVETS
REFRESH-INTERVAL;VALUE=DURATION:PT1H
X-Robots-Tag:noindex
X-PUBLISHED-TTL:PT1H
BEGIN:VTIMEZONE
TZID:America/Detroit
BEGIN:DAYLIGHT
TZOFFSETFROM:-0500
TZOFFSETTO:-0400
TZNAME:EDT
DTSTART:20250309T070000
END:DAYLIGHT
BEGIN:STANDARD
TZOFFSETFROM:-0400
TZOFFSETTO:-0500
TZNAME:EST
DTSTART:20251102T060000
END:STANDARD
BEGIN:DAYLIGHT
TZOFFSETFROM:-0500
TZOFFSETTO:-0400
TZNAME:EDT
DTSTART:20260308T070000
END:DAYLIGHT
BEGIN:STANDARD
TZOFFSETFROM:-0400
TZOFFSETTO:-0500
TZNAME:EST
DTSTART:20261101T060000
END:STANDARD
BEGIN:DAYLIGHT
TZOFFSETFROM:-0500
TZOFFSETTO:-0400
TZNAME:EDT
DTSTART:20270314T070000
END:DAYLIGHT
BEGIN:STANDARD
TZOFFSETFROM:-0400
TZOFFSETTO:-0500
TZNAME:EST
DTSTART:20271107T060000
END:STANDARD
END:VTIMEZONE
BEGIN:VEVENT
DTSTART;VALUE=DATE:20260508
DTEND;VALUE=DATE:20260509
DTSTAMP:20260421T083918
CREATED:20251210T180154Z
LAST-MODIFIED:20260303T034157Z
UID:5663-1778198400-1778284799@amvetsmichigan.org
SUMMARY:Military Spouse Appreciation Day
DESCRIPTION:Always observed on the Friday before Mother’s Day\, National Military Spouse Appreciation Day\, established by President Ronald Reagan in 1984\, recognizes spouses for their crucial support to service members\, who often manage households and careers independently during deployments and frequent moves. The holiday is part of National Military Appreciation Month.
URL:https://amvetsmichigan.org/event/military-spouse-appreciation-day/
END:VEVENT
BEGIN:VEVENT
DTSTART;VALUE=DATE:20260510
DTEND;VALUE=DATE:20260511
DTSTAMP:20260421T083918
CREATED:20251210T180437Z
LAST-MODIFIED:20251210T224902Z
UID:5665-1778371200-1778457599@amvetsmichigan.org
SUMMARY:Mother's Day
DESCRIPTION:Mother’s Day
URL:https://amvetsmichigan.org/event/mothers-day/
END:VEVENT
BEGIN:VEVENT
DTSTART;VALUE=DATE:20260525
DTEND;VALUE=DATE:20260526
DTSTAMP:20260421T083918
CREATED:20251210T183127Z
LAST-MODIFIED:20260303T003945Z
UID:5667-1779667200-1779753599@amvetsmichigan.org
SUMMARY:Memorial Day
DESCRIPTION:Observed on the last Monday in May\, Memorial Day is an annual day of remembrance to honor military members who died while serving their country.
URL:https://amvetsmichigan.org/event/memorial-day/
END:VEVENT
END:VCALENDAR