BEGIN:VCALENDAR
VERSION:2.0
PRODID:-//AMVETS - ECPv6.15.20//NONSGML v1.0//EN
CALSCALE:GREGORIAN
METHOD:PUBLISH
X-ORIGINAL-URL:https://amvetsmichigan.org
X-WR-CALDESC:Events for AMVETS
REFRESH-INTERVAL;VALUE=DURATION:PT1H
X-Robots-Tag:noindex
X-PUBLISHED-TTL:PT1H
BEGIN:VTIMEZONE
TZID:America/Detroit
BEGIN:DAYLIGHT
TZOFFSETFROM:-0500
TZOFFSETTO:-0400
TZNAME:EDT
DTSTART:20250309T070000
END:DAYLIGHT
BEGIN:STANDARD
TZOFFSETFROM:-0400
TZOFFSETTO:-0500
TZNAME:EST
DTSTART:20251102T060000
END:STANDARD
BEGIN:DAYLIGHT
TZOFFSETFROM:-0500
TZOFFSETTO:-0400
TZNAME:EDT
DTSTART:20260308T070000
END:DAYLIGHT
BEGIN:STANDARD
TZOFFSETFROM:-0400
TZOFFSETTO:-0500
TZNAME:EST
DTSTART:20261101T060000
END:STANDARD
BEGIN:DAYLIGHT
TZOFFSETFROM:-0500
TZOFFSETTO:-0400
TZNAME:EDT
DTSTART:20270314T070000
END:DAYLIGHT
BEGIN:STANDARD
TZOFFSETFROM:-0400
TZOFFSETTO:-0500
TZNAME:EST
DTSTART:20271107T060000
END:STANDARD
END:VTIMEZONE
BEGIN:VEVENT
DTSTART;VALUE=DATE:20260508
DTEND;VALUE=DATE:20260509
DTSTAMP:20260421T101104
CREATED:20251210T180154Z
LAST-MODIFIED:20260303T034157Z
UID:5663-1778198400-1778284799@amvetsmichigan.org
SUMMARY:Military Spouse Appreciation Day
DESCRIPTION:Always observed on the Friday before Mother’s Day\, National Military Spouse Appreciation Day\, established by President Ronald Reagan in 1984\, recognizes spouses for their crucial support to service members\, who often manage households and careers independently during deployments and frequent moves. The holiday is part of National Military Appreciation Month.
URL:https://amvetsmichigan.org/event/military-spouse-appreciation-day/
END:VEVENT
BEGIN:VEVENT
DTSTART;VALUE=DATE:20260510
DTEND;VALUE=DATE:20260511
DTSTAMP:20260421T101104
CREATED:20251210T180437Z
LAST-MODIFIED:20251210T224902Z
UID:5665-1778371200-1778457599@amvetsmichigan.org
SUMMARY:Mother's Day
DESCRIPTION:Mother’s Day
URL:https://amvetsmichigan.org/event/mothers-day/
END:VEVENT
BEGIN:VEVENT
DTSTART;VALUE=DATE:20260525
DTEND;VALUE=DATE:20260526
DTSTAMP:20260421T101104
CREATED:20251210T183127Z
LAST-MODIFIED:20260303T003945Z
UID:5667-1779667200-1779753599@amvetsmichigan.org
SUMMARY:Memorial Day
DESCRIPTION:Observed on the last Monday in May\, Memorial Day is an annual day of remembrance to honor military members who died while serving their country.
URL:https://amvetsmichigan.org/event/memorial-day/
END:VEVENT
BEGIN:VEVENT
DTSTART;VALUE=DATE:20260601
DTEND;VALUE=DATE:20260602
DTSTAMP:20260421T101104
CREATED:20260319T090107Z
LAST-MODIFIED:20260319T094527Z
UID:6025-1780272000-1780358399@amvetsmichigan.org
SUMMARY:PTSD Awareness Month
DESCRIPTION:Help Raise PTSD Awareness\nThere are currently about 12 million people in the United States with PTSD. \nEven though PTSD treatments work\, most people who have PTSD don’t get the help they need. June is PTSD Awareness Month. Help us spread the word that PTSD treatment works. Everyone with PTSD—whether they are Veterans or civilian survivors of sexual assault\, serious accidents\, natural disasters\, or other traumatic events—needs to know that effective treatments can reduce symptoms and lead to a better quality of life. \nRegister for the Virtual Walk\nJoin us for 30 minutes of exercise in June. Sign up for the Virtual Walk. \nTake a PTSD Self-Screen\nAnswer 5 questions about your symptoms on PTSD Screening Day: June 27
URL:https://amvetsmichigan.org/event/ptsd-awareness-month/
END:VEVENT
BEGIN:VEVENT
DTSTART;VALUE=DATE:20260606
DTEND;VALUE=DATE:20260607
DTSTAMP:20260421T101104
CREATED:20251210T184305Z
LAST-MODIFIED:20260303T034531Z
UID:5669-1780704000-1780790399@amvetsmichigan.org
SUMMARY:D-Day\, Normandy Invasion
DESCRIPTION:The D-Day operation of June 6\, 1944\, brought together the land\, air\, and sea forces of the allied armies in what became known as the largest amphibious invasion in military history. The operation\, given the codename OVERLORD\, delivered five naval assault divisions to the beaches of Normandy\, France.  \nThe beaches were given the code names UTAH\, OMAHA\, GOLD\, JUNO\, and SWORD. The invasion force included 7\,000 ships and landing craft manned by over 195\,000 naval personnel from eight allied countries. Almost 133\,000 troops from the United States\, the British Commonwealth\, and their allies\, landed on D-Day. Casualties from these countries during the landing numbered 10\,300.  \nBy June 30\, over 850\,000 men\, 148\,000 vehicles\, and 570\,000 tons of supplies had landed on the Normandy shores. Fighting by the brave soldiers\, sailors\, and airmen of the allied forces western front\, and Russian forces on the eastern front\, led to the defeat of German Nazi forces.
URL:https://amvetsmichigan.org/event/d-day-normandy-invasion/
END:VEVENT
BEGIN:VEVENT
DTSTART;VALUE=DATE:20260614
DTEND;VALUE=DATE:20260615
DTSTAMP:20260421T101104
CREATED:20251210T185318Z
LAST-MODIFIED:20260303T035511Z
UID:5671-1781395200-1781481599@amvetsmichigan.org
SUMMARY:Flag Day
DESCRIPTION:On June 14\, 1777\, a banner of red\, white\, and blue was woven into history when the Second Continental Congress passed the First Flag Resolution\, making our beloved Stars and Stripes the official flag of our emerging Republic. This Flag Day\, we pause to revere the star-spangled emblem of our freedom — and we honor the years of valor\, sacrifice\, and patriotism it has gloriously inspired.
URL:https://amvetsmichigan.org/event/flag-day/
END:VEVENT
BEGIN:VEVENT
DTSTART;VALUE=DATE:20260619
DTEND;VALUE=DATE:20260622
DTSTAMP:20260421T101104
CREATED:20251211T174427Z
LAST-MODIFIED:20260418T131446Z
UID:5752-1781827200-1782086399@amvetsmichigan.org
SUMMARY:2026 AMVETS Michigan Annual Convention
DESCRIPTION:2026 AMVETS Michigan Annual Convention  \nJune 19-21 2026  \nMeeting at:\nCourtyard by Marriott\n2400 East Campus Drive\nMt. Pleasant\, MI 48858  \nMention AMVETS Convention for special group rate.
URL:https://amvetsmichigan.org/event/2026-annual-convention/
LOCATION:Courtyard by Marriott\, 2400 East Campus Dr\, Mt. Pleasant\, MI\, 48858\, United States
END:VEVENT
BEGIN:VEVENT
DTSTART;VALUE=DATE:20260621
DTEND;VALUE=DATE:20260622
DTSTAMP:20260421T101104
CREATED:20251210T185858Z
LAST-MODIFIED:20251210T224837Z
UID:5675-1782000000-1782086399@amvetsmichigan.org
SUMMARY:Father's Day
DESCRIPTION:Father’s Day
URL:https://amvetsmichigan.org/event/fathers-day/
END:VEVENT
BEGIN:VEVENT
DTSTART;VALUE=DATE:20260627
DTEND;VALUE=DATE:20260628
DTSTAMP:20260421T101104
CREATED:20260319T093117Z
LAST-MODIFIED:20260319T100944Z
UID:6035-1782518400-1782604799@amvetsmichigan.org
SUMMARY:PTSD Awareness Day
DESCRIPTION:Help Raise PTSD Awareness\nNational PTSD Awareness Day is observed annually on June 27 to raise awareness\, reduce stigma\, and encourage treatment for the millions affected by trauma. Established in honor of Staff Sgt. Joe Biel\, this day focuses on educating the public\, especially regarding veterans and service members. June is also recognized as National PTSD Awareness Month.  \nRegister for the Virtual Walk\nJoin us for 30 minutes of exercise in June. Sign up for the Virtual Walk. \nTake a PTSD Self-Screen\nAnswer 5 questions about your symptoms on PTSD Screening Day: June 27
URL:https://amvetsmichigan.org/event/ptsd-awareness-day/
END:VEVENT
BEGIN:VEVENT
DTSTART;VALUE=DATE:20260704
DTEND;VALUE=DATE:20260705
DTSTAMP:20260421T101104
CREATED:20251210T193553Z
LAST-MODIFIED:20260402T093018Z
UID:5677-1783123200-1783209599@amvetsmichigan.org
SUMMARY:Independence Day
DESCRIPTION:Celebrating America’s 250th Birthday!\n1776 – 2026\nIndependence Day\, known colloquially as the Fourth of July\, is a federal holiday in the United States which commemorates the adoption of the Declaration of Independence on July 4\, 1776\, establishing the United States of America. \nJuly 4\, 2026 marks the 250th Birthday of the United States of America.
URL:https://amvetsmichigan.org/event/independence-day/
END:VEVENT
BEGIN:VEVENT
DTSTART;VALUE=DATE:20260807
DTEND;VALUE=DATE:20260808
DTSTAMP:20260421T101104
CREATED:20251210T195246Z
LAST-MODIFIED:20260303T035139Z
UID:5679-1786060800-1786147199@amvetsmichigan.org
SUMMARY:Purple Heart Day
DESCRIPTION:Purple Heart Day is observed on August 7 each year and is a time for Americans to remember and honor the U.S. service members wounded or killed by enemy action\, terrorist attacks\, or as a result of hostile forces. The Purple Heart is a solemn symbol of sacrifice for those injured or lost in the line of duty.
URL:https://amvetsmichigan.org/event/purple-heart-day/
END:VEVENT
BEGIN:VEVENT
DTSTART;VALUE=DATE:20260911
DTEND;VALUE=DATE:20260912
DTSTAMP:20260421T101104
CREATED:20251210T204016Z
LAST-MODIFIED:20260303T043004Z
UID:5686-1789084800-1789171199@amvetsmichigan.org
SUMMARY:Patriot Day
DESCRIPTION:By a joint resolution approved December 18\, 2001 (Public Law 107-89)\, Congress designated September 11 of each year as “Patriot Day\,” and by Public Law 111-13 (April 21\, 2009)\, Congress has requested the observance of September 11 as an annually recognized “National Day of Service and Remembrance.” \nA Presidential Proclamation each year calls upon all departments\, agencies\, and instrumentalities of the United States to display the flag of the United States at half-staff on Patriot Day and National Day of Service and Remembrance in honor of the individuals who lost their lives on September 11\, 2001. \nIt is a day we remember the victims\, the families\, and survivors dealing with loss\, recognizing the lasting consequences of 9/11 on individual lives.
URL:https://amvetsmichigan.org/event/patriot-day/
END:VEVENT
BEGIN:VEVENT
DTSTART;VALUE=DATE:20260918
DTEND;VALUE=DATE:20260919
DTSTAMP:20260421T101104
CREATED:20251210T203309Z
LAST-MODIFIED:20260407T182155Z
UID:5682-1789689600-1789775999@amvetsmichigan.org
SUMMARY:POW/MIA Recognition Day
DESCRIPTION:National POW/MIA Recognition Day is held each year on the third Friday of September. This commemoration is set aside to honor the commitment and sacrifices made by our nation’s Prisoners of War and those who are still missing in action.
URL:https://amvetsmichigan.org/event/pow-mia-recognition-day/
END:VEVENT
BEGIN:VEVENT
DTSTART;VALUE=DATE:20261111
DTEND;VALUE=DATE:20261112
DTSTAMP:20260421T101104
CREATED:20251210T220808Z
LAST-MODIFIED:20251210T224757Z
UID:5689-1794355200-1794441599@amvetsmichigan.org
SUMMARY:Veterans Day
DESCRIPTION:Honoring all who have honorably served.
URL:https://amvetsmichigan.org/event/veterans-day-2/
END:VEVENT
BEGIN:VEVENT
DTSTART;VALUE=DATE:20261126
DTEND;VALUE=DATE:20261127
DTSTAMP:20260421T101104
CREATED:20251210T221144Z
LAST-MODIFIED:20251210T224746Z
UID:5691-1795651200-1795737599@amvetsmichigan.org
SUMMARY:Thanksgiving Day
DESCRIPTION:Happy Thanksgiving!
URL:https://amvetsmichigan.org/event/thanksgiving-day-2/
END:VEVENT
BEGIN:VEVENT
DTSTART;VALUE=DATE:20261225
DTEND;VALUE=DATE:20261226
DTSTAMP:20260421T101104
CREATED:20251210T221328Z
LAST-MODIFIED:20251215T030005Z
UID:5695-1798156800-1798243199@amvetsmichigan.org
SUMMARY:Christmas Day
DESCRIPTION:Merry Christmas!
URL:https://amvetsmichigan.org/event/christmas-day-2/
END:VEVENT
END:VCALENDAR