BEGIN:VCALENDAR
VERSION:2.0
PRODID:-//AMVETS - ECPv6.15.20//NONSGML v1.0//EN
CALSCALE:GREGORIAN
METHOD:PUBLISH
X-WR-CALNAME:AMVETS
X-ORIGINAL-URL:https://amvetsmichigan.org
X-WR-CALDESC:Events for AMVETS
REFRESH-INTERVAL;VALUE=DURATION:PT1H
X-Robots-Tag:noindex
X-PUBLISHED-TTL:PT1H
BEGIN:VTIMEZONE
TZID:America/Detroit
BEGIN:DAYLIGHT
TZOFFSETFROM:-0500
TZOFFSETTO:-0400
TZNAME:EDT
DTSTART:20230312T070000
END:DAYLIGHT
BEGIN:STANDARD
TZOFFSETFROM:-0400
TZOFFSETTO:-0500
TZNAME:EST
DTSTART:20231105T060000
END:STANDARD
BEGIN:DAYLIGHT
TZOFFSETFROM:-0500
TZOFFSETTO:-0400
TZNAME:EDT
DTSTART:20240310T070000
END:DAYLIGHT
BEGIN:STANDARD
TZOFFSETFROM:-0400
TZOFFSETTO:-0500
TZNAME:EST
DTSTART:20241103T060000
END:STANDARD
BEGIN:DAYLIGHT
TZOFFSETFROM:-0500
TZOFFSETTO:-0400
TZNAME:EDT
DTSTART:20250309T070000
END:DAYLIGHT
BEGIN:STANDARD
TZOFFSETFROM:-0400
TZOFFSETTO:-0500
TZNAME:EST
DTSTART:20251102T060000
END:STANDARD
BEGIN:DAYLIGHT
TZOFFSETFROM:-0500
TZOFFSETTO:-0400
TZNAME:EDT
DTSTART:20260308T070000
END:DAYLIGHT
BEGIN:STANDARD
TZOFFSETFROM:-0400
TZOFFSETTO:-0500
TZNAME:EST
DTSTART:20261101T060000
END:STANDARD
BEGIN:DAYLIGHT
TZOFFSETFROM:-0500
TZOFFSETTO:-0400
TZNAME:EDT
DTSTART:20270314T070000
END:DAYLIGHT
BEGIN:STANDARD
TZOFFSETFROM:-0400
TZOFFSETTO:-0500
TZNAME:EST
DTSTART:20271107T060000
END:STANDARD
END:VTIMEZONE
BEGIN:VEVENT
DTSTART;VALUE=DATE:20260101
DTEND;VALUE=DATE:20260102
DTSTAMP:20260421T132717
CREATED:20251210T153233Z
LAST-MODIFIED:20251210T153233Z
UID:5639-1767225600-1767311999@amvetsmichigan.org
SUMMARY:New Year's Day
DESCRIPTION:Happy New Year!
URL:https://amvetsmichigan.org/event/new-years-day/
END:VEVENT
BEGIN:VEVENT
DTSTART;VALUE=DATE:20251225
DTEND;VALUE=DATE:20251226
DTSTAMP:20260421T132717
CREATED:20251210T152954Z
LAST-MODIFIED:20251210T152954Z
UID:5637-1766620800-1766707199@amvetsmichigan.org
SUMMARY:Christmas Day
DESCRIPTION:Merry Christmas!
URL:https://amvetsmichigan.org/event/christmas-day/
END:VEVENT
BEGIN:VEVENT
DTSTART;VALUE=DATE:20251213
DTEND;VALUE=DATE:20251214
DTSTAMP:20260421T132717
CREATED:20251210T155427Z
LAST-MODIFIED:20251210T161128Z
UID:5644-1765584000-1765670399@amvetsmichigan.org
SUMMARY:National Wreaths Across America Day
DESCRIPTION:This year\, National Wreaths Across America Day will be held on Saturday\, December 13\, 2025.  \n“Remember the fallen. Honor those who serve. Teach the next generation the value of freedom.”
URL:https://amvetsmichigan.org/event/national-wreaths-across-america-day/
END:VEVENT
BEGIN:VEVENT
DTSTART;VALUE=DATE:20251207
DTEND;VALUE=DATE:20251208
DTSTAMP:20260421T132717
CREATED:20251210T153703Z
LAST-MODIFIED:20251210T153931Z
UID:5641-1765065600-1765151999@amvetsmichigan.org
SUMMARY:Pearl Harbor Remembrance Day
DESCRIPTION:On December 7\, 1941\, a peaceful Sunday morning on the Hawaiian island of Oahu was shattered by an unprovoked attack by the naval and air forces of the Empire of Japan on the United States Pacific Fleet at Pearl Harbor and the aircraft and hangars at Kaneohe\, Ford Island\, Barbers Point\, and Hickam Field. The surprise offensive claimed the lives of 2\,403 American service members and civilians and propelled our Nation into the Second World War.
URL:https://amvetsmichigan.org/event/pearl-harbor-remembrance-day/
END:VEVENT
BEGIN:VEVENT
DTSTART;VALUE=DATE:20251127
DTEND;VALUE=DATE:20251128
DTSTAMP:20260421T132717
CREATED:20251123T082833Z
LAST-MODIFIED:20251123T083201Z
UID:5479-1764201600-1764287999@amvetsmichigan.org
SUMMARY:Thanksgiving Day
DESCRIPTION:Happy Thanksgiving!
URL:https://amvetsmichigan.org/event/thanksgiving-day/
END:VEVENT
BEGIN:VEVENT
DTSTART;VALUE=DATE:20251111
DTEND;VALUE=DATE:20251112
DTSTAMP:20260421T132717
CREATED:20251028T215949Z
LAST-MODIFIED:20251028T220323Z
UID:5325-1762819200-1762905599@amvetsmichigan.org
SUMMARY:Veterans Day
DESCRIPTION:Honoring all who have honorably served.
URL:https://amvetsmichigan.org/event/veterans-day/
END:VEVENT
BEGIN:VEVENT
DTSTART;VALUE=DATE:20251017
DTEND;VALUE=DATE:20251020
DTSTAMP:20260421T132717
CREATED:20251010T142401Z
LAST-MODIFIED:20251010T144440Z
UID:5249-1760659200-1760918399@amvetsmichigan.org
SUMMARY:2025 Fall Conference
DESCRIPTION:In accordance with the newly adopted rules\, every Post is required to send a minimum of two representatives to our Fall Conference\, October 17–19\, at the DoubleTree in Grand Rapids. \nYour active participation is essential for maintaining the strength and integrity of AMVETS\, as well as ensuring that all voices are heard in the decision-making process.
URL:https://amvetsmichigan.org/event/2025-fall-conference/
LOCATION:Double Tree by Hilton Hotel\, 4747 28th St SE\, Grand Rapids\, MI\, 49512\, United States
END:VEVENT
BEGIN:VEVENT
DTSTART;TZID=America/Detroit:20250809T130000
DTEND;TZID=America/Detroit:20250809T170000
DTSTAMP:20260421T132717
CREATED:20250703T185414Z
LAST-MODIFIED:20250703T202015Z
UID:4076-1754744400-1754758800@amvetsmichigan.org
SUMMARY:2025 AMVETS Michigan S.E.C. Committee Appointments
DESCRIPTION:All S.E.C. Members are respectfully requested to attend the annual committee appointments meeting. If you are interested in being a part of a committee or are unable to attend in person\, please contact the Department Adjutant\, Tim Hill at: timothy_w_hill@yahoo.com or call Tim at (810) 444-8644 to arrange alternative participation.  Respectfully\, Nat Pulizzi\, Department Commander.
URL:https://amvetsmichigan.org/event/2025-amvets-michigan-committee-appointments-s-e-c/
LOCATION:AMVETS Post 2273\, Durand\, 8495 M-71\, Durand\, MI\, 48429\, United States
END:VEVENT
BEGIN:VEVENT
DTSTART;TZID=America/Detroit:20250620T080000
DTEND;TZID=America/Detroit:20250622T130000
DTSTAMP:20260421T132717
CREATED:20250703T183609Z
LAST-MODIFIED:20250703T183609Z
UID:4073-1750406400-1750597200@amvetsmichigan.org
SUMMARY:2025 AMVETS Michigan Convention
DESCRIPTION:
URL:https://amvetsmichigan.org/event/2025-amvets-michigan-convention/
LOCATION:Double Tree by Hilton Hotel\, 4747 28th St SE\, Grand Rapids\, MI\, 49512\, United States
END:VEVENT
BEGIN:VEVENT
DTSTART;VALUE=DATE:20250208
DTEND;VALUE=DATE:20250210
DTSTAMP:20260421T132717
CREATED:20241231T080526Z
LAST-MODIFIED:20241231T130258Z
UID:3907-1738972800-1739145599@amvetsmichigan.org
SUMMARY:AMVETS Mid Winter S.E.C. Meeting
DESCRIPTION:February 8–9\, 2025\nStart Time: 9:30am\, Feburary 8\, 2025 \nRSVP:  Commander Witte – mideptcdr2023@gmail.com
URL:https://amvetsmichigan.org/event/amvets-mid-winter-s-e-c-meeting/
LOCATION:AMVETS Dept of Michigan Headquarters\, 106 Thorpe Ave\, Roscommon\, MI\, 48653
ORGANIZER;CN="Commander Witte":MAILTO:mideptcdr2023@gmail.com
END:VEVENT
BEGIN:VEVENT
DTSTART;TZID=America/Detroit:20240913T160000
DTEND;TZID=America/Detroit:20240913T170000
DTSTAMP:20260421T132717
CREATED:20240826T160426Z
LAST-MODIFIED:20240826T160426Z
UID:3796-1726243200-1726246800@amvetsmichigan.org
SUMMARY:AMVETS Fall Conference 2024
DESCRIPTION:Double Tree by Hilton Hotel\n4747 28th St SE Grand Rapids\, MI 49512\n1(616) 957-0100  \n  \n  \nFall Conference Agenda 2024
URL:https://amvetsmichigan.org/event/amvets-fall-conference-2024/
END:VEVENT
END:VCALENDAR